OziExplorer Map Data File Version 2.1
Gibraltar.jpg
C:\Mis documentos\Download\Gibraltar.jpg
1 TIFF scale factor
European 1979,WGS 84, 0.0000, 0.0000,WGS 84
Reserved 1
Reserved 2
Magnetic Variation,,,E
Map Projection,Latitude/Longitude,PolyCal,No,AutoCalOnly,No,BSBUseWPX,Yes
Point01,xy, 172, 679,in, deg, 36, 8.0000,N, 5, 22.0000,W, grid, , , ,N
Point02,xy, 775, 1052,in, deg, 36, 7.0000,N, 5, 20.0000,W, grid, , , ,N
Point03,xy, 172, 307,in, deg, 36, 9.0000,N, 5, 22.0000,W, grid, , , ,N
Point04,xy, 775, 308,in, deg, 36, 9.0000,N, 5, 20.0000,W, grid, , , ,N
Point05,xy, , ,in, deg, , ,N, , ,W, grid, , , ,N
Point06,xy, , ,in, deg, , ,N, , ,W, grid, , , ,N
Point07,xy, , ,in, deg, , ,N, , ,W, grid, , , ,N
Point08,xy, , ,in, deg, , ,N, , ,W, grid, , , ,N
Point09,xy, , ,in, deg, , ,N, , ,W, grid, , , ,N
Point10,xy, , ,in, deg, , ,, , ,, grid, , , ,
Point11,xy, , ,in, deg, , ,, , ,, grid, , , ,
Point12,xy, , ,in, deg, , ,, , ,, grid, , , ,
Point13,xy, , ,in, deg, , ,, , ,, grid, , , ,
Point14,xy, , ,in, deg, , ,, , ,, grid, , , ,
Point15,xy, , ,in, deg, , ,, , ,, grid, , , ,
Point16,xy, , ,in, deg, , ,, , ,, grid, , , ,
Point17,xy, , ,in, deg, , ,, , ,, grid, , , ,
Point18,xy, , ,in, deg, , ,, , ,, grid, , , ,
Point19,xy, , ,in, deg, , ,, , ,, grid, , , ,
Point20,xy, , ,in, deg, , ,, , ,, grid, , , ,
Point21,xy, , ,in, deg, , ,, , ,, grid, , , ,
Point22,xy, , ,in, deg, , ,, , ,, grid, , , ,
Point23,xy, , ,in, deg, , ,, , ,, grid, , , ,
Point24,xy, , ,in, deg, , ,, , ,, grid, , , ,
Point25,xy, , ,in, deg, , ,, , ,, grid, , , ,
Point26,xy, , ,in, deg, , ,, , ,, grid, , , ,
Point27,xy, , ,in, deg, , ,, , ,, grid, , , ,
Point28,xy, , ,in, deg, , ,, , ,, grid, , , ,
Point29,xy, , ,in, deg, , ,, , ,, grid, , , ,
Point30,xy, , ,in, deg, , ,, , ,, grid, , , ,
Projection Setup,,,,,,,
Map Feature = MF ; Map Comment = MC These follow if they exist
Track File = TF These follow if they exist Moving Map Stuff = MM? These follow if they exist
MM0,Yes
MMPNUM,4
MMPXY,1,30,29
MMPXY,2,1007,28
MMPXY,3,1005,1253
MMPXY,4,27,1247
MMPLL,1, -5.374516, 36.162445
MMPLL,2, -5.320509, 36.162562
MMPLL,3, -5.320619, 36.107678
MMPLL,4, -5.374682, 36.107875
MM1B,4.975497
LL Grid Setup
LLGRID,Yes,1 Min,Yes,255,16711680,0,1 Min,0,65535,11,1,Yes,x
MOP,Map Open Position,0,0
IWH,Map Image Width/Height,1036,1300
