{"text_format":"1","workbook":"xlsx","n_sheets":3,"sheets":["hellscriber","pattern","GEsolver"],"not_rendered":{"charts":0,"images":0,"macros":1,"external_links":0,"defined_names":0,"comments":0,"pivot_tables":0},"unopened":[],"bounds":{"document_bytes":16777216,"sheet_cells":100000,"rows_first":2000,"rows_last":500,"rows_between":2000,"halvings":0,"cell_chars":16384,"cell_head_chars":4096},"cells_cut":0,"cells_raw":0,"read":"whole","date_system":"1900"}

{"sheet":"hellscriber","index":0,"n_rows":31,"n_cols":13,"rows_kept":31,"cut":false,"hidden":false,"merged":[[22,0,22,12],[9,2,9,12]]}
["TICKER -->","A","…","…","…","…","B","…","…","…","C","…","…"]
["row 1",null,null,1,1,null,1,1,null,null,null,1,1]
["row 2",null,1,null,1,null,1,null,1,null,1]
["row 3",null,1,null,1,null,1,null,1,null,1]
["row 4",null,1,1,1,null,1,1,null,null,1]
["row 5",1,null,null,1,null,1,1,1,null,1]
["row 6",1,null,null,1,null,1,null,1,null,1]
["row 7",1,null,null,1,null,1,null,1,null,1]
["row 8",1,null,null,1,null,1,1,1,null,null,1,1]
["Noise",0.99,"ENCODER"]
["patterns /  amplitude -->"]
["[,1]",{"$f":"$B$10*(RAND()-0.5)+B$2*pattern!$B$3+B$3*pattern!$B$4+B$4*pattern!$B$5+B$5*pattern!$B$6+B$6*pattern!$B$7+B$7*pattern!$B$8+B$8*pattern!$B$9+B$9*pattern!$B$10","v":4.0812765876746786},{"$f":"$B$10*(RAND()-0.5)+C$2*pattern!$B$3+C$3*pattern!$B$4+C$4*pattern!$B$5+C$5*pattern!$B$6+C$6*pattern!$B$7+C$7*pattern!$B$8+C$8*pattern!$B$9+C$9*pattern!$B$10","v":3.388727427412177},{"$f":"$B$10*(RAND()-0.5)+D$2*pattern!$B$3+D$3*pattern!$B$4+D$4*pattern!$B$5+D$5*pattern!$B$6+D$6*pattern!$B$7+D$7*pattern!$B$8+D$8*pattern!$B$9+D$9*pattern!$B$10","v":1.5338873589047444},{"$f":"$B$10*(RAND()-0.5)+E$2*pattern!$B$3+E$3*pattern!$B$4+E$4*pattern!$B$5+E$5*pattern!$B$6+E$6*pattern!$B$7+E$7*pattern!$B$8+E$8*pattern!$B$9+E$9*pattern!$B$10","v":7.5398935414924821},{"$f":"$B$10*(RAND()-0.5)+F$2*pattern!$B$3+F$3*pattern!$B$4+F$4*pattern!$B$5+F$5*pattern!$B$6+F$6*pattern!$B$7+F$7*pattern!$B$8+F$8*pattern!$B$9+F$9*pattern!$B$10","v":7.3693349966617028E-2},{"$f":"$B$10*(RAND()-0.5)+G$2*pattern!$B$3+G$3*pattern!$B$4+G$4*pattern!$B$5+G$5*pattern!$B$6+G$6*pattern!$B$7+G$7*pattern!$B$8+G$8*pattern!$B$9+G$9*pattern!$B$10","v":8.2269898750824098},{"$f":"$B$10*(RAND()-0.5)+H$2*pattern!$B$3+H$3*pattern!$B$4+H$4*pattern!$B$5+H$5*pattern!$B$6+H$6*pattern!$B$7+H$7*pattern!$B$8+H$8*pattern!$B$9+H$9*pattern!$B$10","v":4.4942554778960435},{"$f":"$B$10*(RAND()-0.5)+I$2*pattern!$B$3+I$3*pattern!$B$4+I$4*pattern!$B$5+I$5*pattern!$B$6+I$6*pattern!$B$7+I$7*pattern!$B$8+I$8*pattern!$B$9+I$9*pattern!$B$10","v":5.9220582424477204},{"$f":"$B$10*(RAND()-0.5)+J$2*pattern!$B$3+J$3*pattern!$B$4+J$4*pattern!$B$5+J$5*pattern!$B$6+J$6*pattern!$B$7+J$7*pattern!$B$8+J$8*pattern!$B$9+J$9*pattern!$B$10","v":-0.4158333037744798},{"$f":"$B$10*(RAND()-0.5)+K$2*pattern!$B$3+K$3*pattern!$B$4+K$4*pattern!$B$5+K$5*pattern!$B$6+K$6*pattern!$B$7+K$7*pattern!$B$8+K$8*pattern!$B$9+K$9*pattern!$B$10","v":6.1146265892677381},{"$f":"$B$10*(RAND()-0.5)+L$2*pattern!$B$3+L$3*pattern!$B$4+L$4*pattern!$B$5+L$5*pattern!$B$6+L$6*pattern!$B$7+L$7*pattern!$B$8+L$8*pattern!$B$9+L$9*pattern!$B$10","v":2.0875385540424127},{"$f":"$B$10*(RAND()-0.5)+M$2*pattern!$B$3+M$3*pattern!$B$4+M$4*pattern!$B$5+M$5*pattern!$B$6+M$6*pattern!$B$7+M$7*pattern!$B$8+M$8*pattern!$B$9+M$9*pattern!$B$10","v":1.5949568607157443}]
["[,2]",{"$f":"$B$10*(RAND()-0.5)+B$2*pattern!$C$3+B$3*pattern!$C$4+B$4*pattern!$C$5+B$5*pattern!$C$6+B$6*pattern!$C$7+B$7*pattern!$C$8+B$8*pattern!$C$9+B$9*pattern!$C$10","v":2.2539051322230419},{"$f":"$B$10*(RAND()-0.5)+C$2*pattern!$C$3+C$3*pattern!$C$4+C$4*pattern!$C$5+C$5*pattern!$C$6+C$6*pattern!$C$7+C$7*pattern!$C$8+C$8*pattern!$C$9+C$9*pattern!$C$10","v":1.279610829758044},{"$f":"$B$10*(RAND()-0.5)+D$2*pattern!$C$3+D$3*pattern!$C$4+D$4*pattern!$C$5+D$5*pattern!$C$6+D$6*pattern!$C$7+D$7*pattern!$C$8+D$8*pattern!$C$9+D$9*pattern!$C$10","v":0.55114378156263599},{"$f":"$B$10*(RAND()-0.5)+E$2*pattern!$C$3+E$3*pattern!$C$4+E$4*pattern!$C$5+E$5*pattern!$C$6+E$6*pattern!$C$7+E$7*pattern!$C$8+E$8*pattern!$C$9+E$9*pattern!$C$10","v":4.2249378418717978},{"$f":"$B$10*(RAND()-0.5)+F$2*pattern!$C$3+F$3*pattern!$C$4+F$4*pattern!$C$5+F$5*pattern!$C$6+F$6*pattern!$C$7+F$7*pattern!$C$8+F$8*pattern!$C$9+F$9*pattern!$C$10","v":9.9284166164579135E-2},{"$f":"$B$10*(RAND()-0.5)+G$2*pattern!$C$3+G$3*pattern!$C$4+G$4*pattern!$C$5+G$5*pattern!$C$6+G$6*pattern!$C$7+G$7*pattern!$C$8+G$8*pattern!$C$9+G$9*pattern!$C$10","v":3.9231541464624926},{"$f":"$B$10*(RAND()-0.5)+H$2*pattern!$C$3+H$3*pattern!$C$4+H$4*pattern!$C$5+H$5*pattern!$C$6+H$6*pattern!$C$7+H$7*pattern!$C$8+H$8*pattern!$C$9+H$9*pattern!$C$10","v":1.579918349216481},{"$f":"$B$10*(RAND()-0.5)+I$2*pattern!$C$3+I$3*pattern!$C$4+I$4*pattern!$C$5+I$5*pattern!$C$6+I$6*pattern!$C$7+I$7*pattern!$C$8+I$8*pattern!$C$9+I$9*pattern!$C$10","v":2.8027666292751694},{"$f":"$B$10*(RAND()-0.5)+J$2*pattern!$C$3+J$3*pattern!$C$4+J$4*pattern!$C$5+J$5*pattern!$C$6+J$6*pattern!$C$7+J$7*pattern!$C$8+J$8*pattern!$C$9+J$9*pattern!$C$10","v":-0.46941877291802192},{"$f":"$B$10*(RAND()-0.5)+K$2*pattern!$C$3+K$3*pattern!$C$4+K$4*pattern!$C$5+K$5*pattern!$C$6+K$6*pattern!$C$7+K$7*pattern!$C$8+K$8*pattern!$C$9+K$9*pattern!$C$10","v":3.3963204417393484},{"$f":"$B$10*(RAND()-0.5)+L$2*pattern!$C$3+L$3*pattern!$C$4+L$4*pattern!$C$5+L$5*pattern!$C$6+L$6*pattern!$C$7+L$7*pattern!$C$8+L$8*pattern!$C$9+L$9*pattern!$C$10","v":0.54556894053745975},{"$f":"$B$10*(RAND()-0.5)+M$2*pattern!$C$3+M$3*pattern!$C$4+M$4*pattern!$C$5+M$5*pattern!$C$6+M$6*pattern!$C$7+M$7*pattern!$C$8+M$8*pattern!$C$9+M$9*pattern!$C$10","v":1.2283686330979942}]
["[,3]",{"$f":"$B$10*(RAND()-0.5)+B$2*pattern!$D$3+B$3*pattern!$D$4+B$4*pattern!$D$5+B$5*pattern!$D$6+B$6*pattern!$D$7+B$7*pattern!$D$8+B$8*pattern!$D$9+B$9*pattern!$D$10","v":2.0253192789452332},{"$f":"$B$10*(RAND()-0.5)+C$2*pattern!$D$3+C$3*pattern!$D$4+C$4*pattern!$D$5+C$5*pattern!$D$6+C$6*pattern!$D$7+C$7*pattern!$D$8+C$8*pattern!$D$9+C$9*pattern!$D$10","v":0.97528969750735306},{"$f":"$B$10*(RAND()-0.5)+D$2*pattern!$D$3+D$3*pattern!$D$4+D$4*pattern!$D$5+D$5*pattern!$D$6+D$6*pattern!$D$7+D$7*pattern!$D$8+D$8*pattern!$D$9+D$9*pattern!$D$10","v":1.4821262997995561},{"$f":"$B$10*(RAND()-0.5)+E$2*pattern!$D$3+E$3*pattern!$D$4+E$4*pattern!$D$5+E$5*pattern!$D$6+E$6*pattern!$D$7+E$7*pattern!$D$8+E$8*pattern!$D$9+E$9*pattern!$D$10","v":3.8862779357000594},{"$f":"$B$10*(RAND()-0.5)+F$2*pattern!$D$3+F$3*pattern!$D$4+F$4*pattern!$D$5+F$5*pattern!$D$6+F$6*pattern!$D$7+F$7*pattern!$D$8+F$8*pattern!$D$9+F$9*pattern!$D$10","v":-0.25215703573241954},{"$f":"$B$10*(RAND()-0.5)+G$2*pattern!$D$3+G$3*pattern!$D$4+G$4*pattern!$D$5+G$5*pattern!$D$6+G$6*pattern!$D$7+G$7*pattern!$D$8+G$8*pattern!$D$9+G$9*pattern!$D$10","v":4.043009443152398},{"$f":"$B$10*(RAND()-0.5)+H$2*pattern!$D$3+H$3*pattern!$D$4+H$4*pattern!$D$5+H$5*pattern!$D$6+H$6*pattern!$D$7+H$7*pattern!$D$8+H$8*pattern!$D$9+H$9*pattern!$D$10","v":2.3458094917707513},{"$f":"$B$10*(RAND()-0.5)+I$2*pattern!$D$3+I$3*pattern!$D$4+I$4*pattern!$D$5+I$5*pattern!$D$6+I$6*pattern!$D$7+I$7*pattern!$D$8+I$8*pattern!$D$9+I$9*pattern!$D$10","v":3.1083713338994921},{"$f":"$B$10*(RAND()-0.5)+J$2*pattern!$D$3+J$3*pattern!$D$4+J$4*pattern!$D$5+J$5*pattern!$D$6+J$6*pattern!$D$7+J$7*pattern!$D$8+J$8*pattern!$D$9+J$9*pattern!$D$10","v":-0.15387540961362778},{"$f":"$B$10*(RAND()-0.5)+K$2*pattern!$D$3+K$3*pattern!$D$4+K$4*pattern!$D$5+K$5*pattern!$D$6+K$6*pattern!$D$7+K$7*pattern!$D$8+K$8*pattern!$D$9+K$9*pattern!$D$10","v":2.5782606835598179},{"$f":"$B$10*(RAND()-0.5)+L$2*pattern!$D$3+L$3*pattern!$D$4+L$4*pattern!$D$5+L$5*pattern!$D$6+L$6*pattern!$D$7+L$7*pattern!$D$8+L$8*pattern!$D$9+L$9*pattern!$D$10","v":1.1576127443699278},{"$f":"$B$10*(RAND()-0.5)+M$2*pattern!$D$3+M$3*pattern!$D$4+M$4*pattern!$D$5+M$5*pattern!$D$6+M$6*pattern!$D$7+M$7*pattern!$D$8+M$8*pattern!$D$9+M$9*pattern!$D$10","v":0.52021645140493666}]
["[,4]",{"$f":"$B$10*(RAND()-0.5)+B$2*pattern!$E$3+B$3*pattern!$E$4+B$4*pattern!$E$5+B$5*pattern!$E$6+B$6*pattern!$E$7+B$7*pattern!$E$8+B$8*pattern!$E$9+B$9*pattern!$E$10","v":1.9571847229717625},{"$f":"$B$10*(RAND()-0.5)+C$2*pattern!$E$3+C$3*pattern!$E$4+C$4*pattern!$E$5+C$5*pattern!$E$6+C$6*pattern!$E$7+C$7*pattern!$E$8+C$8*pattern!$E$9+C$9*pattern!$E$10","v":0.81930413006407532},{"$f":"$B$10*(RAND()-0.5)+D$2*pattern!$E$3+D$3*pattern!$E$4+D$4*pattern!$E$5+D$5*pattern!$E$6+D$6*pattern!$E$7+D$7*pattern!$E$8+D$8*pattern!$E$9+D$9*pattern!$E$10","v":2.2272731461342348},{"$f":"$B$10*(RAND()-0.5)+E$2*pattern!$E$3+E$3*pattern!$E$4+E$4*pattern!$E$5+E$5*pattern!$E$6+E$6*pattern!$E$7+E$7*pattern!$E$8+E$8*pattern!$E$9+E$9*pattern!$E$10","v":4.4684246189105492},{"$f":"$B$10*(RAND()-0.5)+F$2*pattern!$E$3+F$3*pattern!$E$4+F$4*pattern!$E$5+F$5*pattern!$E$6+F$6*pattern!$E$7+F$7*pattern!$E$8+F$8*pattern!$E$9+F$9*pattern!$E$10","v":0.44860246745480736},{"$f":"$B$10*(RAND()-0.5)+G$2*pattern!$E$3+G$3*pattern!$E$4+G$4*pattern!$E$5+G$5*pattern!$E$6+G$6*pattern!$E$7+G$7*pattern!$E$8+G$8*pattern!$E$9+G$9*pattern!$E$10","v":3.7611221695758386},{"$f":"$B$10*(RAND()-0.5)+H$2*pattern!$E$3+H$3*pattern!$E$4+H$4*pattern!$E$5+H$5*pattern!$E$6+H$6*pattern!$E$7+H$7*pattern!$E$8+H$8*pattern!$E$9+H$9*pattern!$E$10","v":4.2118869923661313},{"$f":"$B$10*(RAND()-0.5)+I$2*pattern!$E$3+I$3*pattern!$E$4+I$4*pattern!$E$5+I$5*pattern!$E$6+I$6*pattern!$E$7+I$7*pattern!$E$8+I$8*pattern!$E$9+I$9*pattern!$E$10","v":1.8468411198986794},{"$f":"$B$10*(RAND()-0.5)+J$2*pattern!$E$3+J$3*pattern!$E$4+J$4*pattern!$E$5+J$5*pattern!$E$6+J$6*pattern!$E$7+J$7*pattern!$E$8+J$8*pattern!$E$9+J$9*pattern!$E$10","v":0.48165521646577775},{"$f":"$B$10*(RAND()-0.5)+K$2*pattern!$E$3+K$3*pattern!$E$4+K$4*pattern!$E$5+K$5*pattern!$E$6+K$6*pattern!$E$7+K$7*pattern!$E$8+K$8*pattern!$E$9+K$9*pattern!$E$10","v":1.6160652993538487},{"$f":"$B$10*(RAND()-0.5)+L$2*pattern!$E$3+L$3*pattern!$E$4+L$4*pattern!$E$5+L$5*pattern!$E$6+L$6*pattern!$E$7+L$7*pattern!$E$8+L$8*pattern!$E$9+L$9*pattern!$E$10","v":2.4781402323831321},{"$f":"$B$10*(RAND()-0.5)+M$2*pattern!$E$3+M$3*pattern!$E$4+M$4*pattern!$E$5+M$5*pattern!$E$6+M$6*pattern!$E$7+M$7*pattern!$E$8+M$8*pattern!$E$9+M$9*pattern!$E$10","v":2.2922923950708025}]
["[,5]",{"$f":"$B$10*(RAND()-0.5)+B$2*pattern!$F$3+B$3*pattern!$F$4+B$4*pattern!$F$5+B$5*pattern!$F$6+B$6*pattern!$F$7+B$7*pattern!$F$8+B$8*pattern!$F$9+B$9*pattern!$F$10","v":-0.41846742593329073},{"$f":"$B$10*(RAND()-0.5)+C$2*pattern!$F$3+C$3*pattern!$F$4+C$4*pattern!$F$5+C$5*pattern!$F$6+C$6*pattern!$F$7+C$7*pattern!$F$8+C$8*pattern!$F$9+C$9*pattern!$F$10","v":2.784536067299769},{"$f":"$B$10*(RAND()-0.5)+D$2*pattern!$F$3+D$3*pattern!$F$4+D$4*pattern!$F$5+D$5*pattern!$F$6+D$6*pattern!$F$7+D$7*pattern!$F$8+D$8*pattern!$F$9+D$9*pattern!$F$10","v":1.5414660066266883},{"$f":"$B$10*(RAND()-0.5)+E$2*pattern!$F$3+E$3*pattern!$F$4+E$4*pattern!$F$5+E$5*pattern!$F$6+E$6*pattern!$F$7+E$7*pattern!$F$8+E$8*pattern!$F$9+E$9*pattern!$F$10","v":3.695030574391228},{"$f":"$B$10*(RAND()-0.5)+F$2*pattern!$F$3+F$3*pattern!$F$4+F$4*pattern!$F$5+F$5*pattern!$F$6+F$6*pattern!$F$7+F$7*pattern!$F$8+F$8*pattern!$F$9+F$9*pattern!$F$10","v":-0.483759002578038},{"$f":"$B$10*(RAND()-0.5)+G$2*pattern!$F$3+G$3*pattern!$F$4+G$4*pattern!$F$5+G$5*pattern!$F$6+G$6*pattern!$F$7+G$7*pattern!$F$8+G$8*pattern!$F$9+G$9*pattern!$F$10","v":4.0880145813459272},{"$f":"$B$10*(RAND()-0.5)+H$2*pattern!$F$3+H$3*pattern!$F$4+H$4*pattern!$F$5+H$5*pattern!$F$6+H$6*pattern!$F$7+H$7*pattern!$F$8+H$8*pattern!$F$9+H$9*pattern!$F$10","v":1.5367182718421797},{"$f":"$B$10*(RAND()-0.5)+I$2*pattern!$F$3+I$3*pattern!$F$4+I$4*pattern!$F$5+I$5*pattern!$F$6+I$6*pattern!$F$7+I$7*pattern!$F$8+I$8*pattern!$F$9+I$9*pattern!$F$10","v":1.7152246323021081},{"$f":"$B$10*(RAND()-0.5)+J$2*pattern!$F$3+J$3*pattern!$F$4+J$4*pattern!$F$5+J$5*pattern!$F$6+J$6*pattern!$F$7+J$7*pattern!$F$8+J$8*pattern!$F$9+J$9*pattern!$F$10","v":-0.4694572403373401},{"$f":"$B$10*(RAND()-0.5)+K$2*pattern!$F$3+K$3*pattern!$F$4+K$4*pattern!$F$5+K$5*pattern!$F$6+K$6*pattern!$F$7+K$7*pattern!$F$8+K$8*pattern!$F$9+K$9*pattern!$F$10","v":2.7937493938511206},{"$f":"$B$10*(RAND()-0.5)+L$2*pattern!$F$3+L$3*pattern!$F$4+L$4*pattern!$F$5+L$5*pattern!$F$6+L$6*pattern!$F$7+L$7*pattern!$F$8+L$8*pattern!$F$9+L$9*pattern!$F$10","v":0.57208223710246886},{"$f":"$B$10*(RAND()-0.5)+M$2*pattern!$F$3+M$3*pattern!$F$4+M$4*pattern!$F$5+M$5*pattern!$F$6+M$6*pattern!$F$7+M$7*pattern!$F$8+M$8*pattern!$F$9+M$9*pattern!$F$10","v":1.381473634782604}]
["[,6]",{"$f":"$B$10*(RAND()-0.5)+B$2*pattern!$G$3+B$3*pattern!$G$4+B$4*pattern!$G$5+B$5*pattern!$G$6+B$6*pattern!$G$7+B$7*pattern!$G$8+B$8*pattern!$G$9+B$9*pattern!$G$10","v":2.3383873323809747},{"$f":"$B$10*(RAND()-0.5)+C$2*pattern!$G$3+C$3*pattern!$G$4+C$4*pattern!$G$5+C$5*pattern!$G$6+C$6*pattern!$G$7+C$7*pattern!$G$8+C$8*pattern!$G$9+C$9*pattern!$G$10","v":0.92204015887759638},{"$f":"$B$10*(RAND()-0.5)+D$2*pattern!$G$3+D$3*pattern!$G$4+D$4*pattern!$G$5+D$5*pattern!$G$6+D$6*pattern!$G$7+D$7*pattern!$G$8+D$8*pattern!$G$9+D$9*pattern!$G$10","v":1.2783062034681447},{"$f":"$B$10*(RAND()-0.5)+E$2*pattern!$G$3+E$3*pattern!$G$4+E$4*pattern!$G$5+E$5*pattern!$G$6+E$6*pattern!$G$7+E$7*pattern!$G$8+E$8*pattern!$G$9+E$9*pattern!$G$10","v":4.4363231387002227},{"$f":"$B$10*(RAND()-0.5)+F$2*pattern!$G$3+F$3*pattern!$G$4+F$4*pattern!$G$5+F$5*pattern!$G$6+F$6*pattern!$G$7+F$7*pattern!$G$8+F$8*pattern!$G$9+F$9*pattern!$G$10","v":-0.23360411740270812},{"$f":"$B$10*(RAND()-0.5)+G$2*pattern!$G$3+G$3*pattern!$G$4+G$4*pattern!$G$5+G$5*pattern!$G$6+G$6*pattern!$G$7+G$7*pattern!$G$8+G$8*pattern!$G$9+G$9*pattern!$G$10","v":4.4521830263727162},{"$f":"$B$10*(RAND()-0.5)+H$2*pattern!$G$3+H$3*pattern!$G$4+H$4*pattern!$G$5+H$5*pattern!$G$6+H$6*pattern!$G$7+H$7*pattern!$G$8+H$8*pattern!$G$9+H$9*pattern!$G$10","v":1.8948132139720064},{"$f":"$B$10*(RAND()-0.5)+I$2*pattern!$G$3+I$3*pattern!$G$4+I$4*pattern!$G$5+I$5*pattern!$G$6+I$6*pattern!$G$7+I$7*pattern!$G$8+I$8*pattern!$G$9+I$9*pattern!$G$10","v":2.9883465539365677},{"$f":"$B$10*(RAND()-0.5)+J$2*pattern!$G$3+J$3*pattern!$G$4+J$4*pattern!$G$5+J$5*pattern!$G$6+J$6*pattern!$G$7+J$7*pattern!$G$8+J$8*pattern!$G$9+J$9*pattern!$G$10","v":0.40071588836398925},{"$f":"$B$10*(RAND()-0.5)+K$2*pattern!$G$3+K$3*pattern!$G$4+K$4*pattern!$G$5+K$5*pattern!$G$6+K$6*pattern!$G$7+K$7*pattern!$G$8+K$8*pattern!$G$9+K$9*pattern!$G$10","v":1.9384594206840817},{"$f":"$B$10*(RAND()-0.5)+L$2*pattern!$G$3+L$3*pattern!$G$4+L$4*pattern!$G$5+L$5*pattern!$G$6+L$6*pattern!$G$7+L$7*pattern!$G$8+L$8*pattern!$G$9+L$9*pattern!$G$10","v":2.4619699335227807},{"$f":"$B$10*(RAND()-0.5)+M$2*pattern!$G$3+M$3*pattern!$G$4+M$4*pattern!$G$5+M$5*pattern!$G$6+M$6*pattern!$G$7+M$7*pattern!$G$8+M$8*pattern!$G$9+M$9*pattern!$G$10","v":1.9993998745710218}]
["[,7]",{"$f":"$B$10*(RAND()-0.5)+B$2*pattern!$H$3+B$3*pattern!$H$4+B$4*pattern!$H$5+B$5*pattern!$H$6+B$6*pattern!$H$7+B$7*pattern!$H$8+B$8*pattern!$H$9+B$9*pattern!$H$10","v":2.0021705802385577},{"$f":"$B$10*(RAND()-0.5)+C$2*pattern!$H$3+C$3*pattern!$H$4+C$4*pattern!$H$5+C$5*pattern!$H$6+C$6*pattern!$H$7+C$7*pattern!$H$8+C$8*pattern!$H$9+C$9*pattern!$H$10","v":0.98832048738938572},{"$f":"$B$10*(RAND()-0.5)+D$2*pattern!$H$3+D$3*pattern!$H$4+D$4*pattern!$H$5+D$5*pattern!$H$6+D$6*pattern!$H$7+D$7*pattern!$H$8+D$8*pattern!$H$9+D$9*pattern!$H$10","v":0.63143770517376352},{"$f":"$B$10*(RAND()-0.5)+E$2*pattern!$H$3+E$3*pattern!$H$4+E$4*pattern!$H$5+E$5*pattern!$H$6+E$6*pattern!$H$7+E$7*pattern!$H$8+E$8*pattern!$H$9+E$9*pattern!$H$10","v":4.048780595275975},{"$f":"$B$10*(RAND()-0.5)+F$2*pattern!$H$3+F$3*pattern!$H$4+F$4*pattern!$H$5+F$5*pattern!$H$6+F$6*pattern!$H$7+F$7*pattern!$H$8+F$8*pattern!$H$9+F$9*pattern!$H$10","v":-0.33227177198140856},{"$f":"$B$10*(RAND()-0.5)+G$2*pattern!$H$3+G$3*pattern!$H$4+G$4*pattern!$H$5+G$5*pattern!$H$6+G$6*pattern!$H$7+G$7*pattern!$H$8+G$8*pattern!$H$9+G$9*pattern!$H$10","v":3.9283852919062099},{"$f":"$B$10*(RAND()-0.5)+H$2*pattern!$H$3+H$3*pattern!$H$4+H$4*pattern!$H$5+H$5*pattern!$H$6+H$6*pattern!$H$7+H$7*pattern!$H$8+H$8*pattern!$H$9+H$9*pattern!$H$10","v":2.1588105188545468},{"$f":"$B$10*(RAND()-0.5)+I$2*pattern!$H$3+I$3*pattern!$H$4+I$4*pattern!$H$5+I$5*pattern!$H$6+I$6*pattern!$H$7+I$7*pattern!$H$8+I$8*pattern!$H$9+I$9*pattern!$H$10","v":3.3331578098161372},{"$f":"$B$10*(RAND()-0.5)+J$2*pattern!$H$3+J$3*pattern!$H$4+J$4*pattern!$H$5+J$5*pattern!$H$6+J$6*pattern!$H$7+J$7*pattern!$H$8+J$8*pattern!$H$9+J$9*pattern!$H$10","v":-3.5243412186193056E-2},{"$f":"$B$10*(RAND()-0.5)+K$2*pattern!$H$3+K$3*pattern!$H$4+K$4*pattern!$H$5+K$5*pattern!$H$6+K$6*pattern!$H$7+K$7*pattern!$H$8+K$8*pattern!$H$9+K$9*pattern!$H$10","v":2.492661057589066},{"$f":"$B$10*(RAND()-0.5)+L$2*pattern!$H$3+L$3*pattern!$H$4+L$4*pattern!$H$5+L$5*pattern!$H$6+L$6*pattern!$H$7+L$7*pattern!$H$8+L$8*pattern!$H$9+L$9*pattern!$H$10","v":1.8607895543701503},{"$f":"$B$10*(RAND()-0.5)+M$2*pattern!$H$3+M$3*pattern!$H$4+M$4*pattern!$H$5+M$5*pattern!$H$6+M$6*pattern!$H$7+M$7*pattern!$H$8+M$8*pattern!$H$9+M$9*pattern!$H$10","v":2.2465990657903787}]
["[,8]",{"$f":"$B$10*(RAND()-0.5)+B$2*pattern!$I$3+B$3*pattern!$I$4+B$4*pattern!$I$5+B$5*pattern!$I$6+B$6*pattern!$I$7+B$7*pattern!$I$8+B$8*pattern!$I$9+B$9*pattern!$I$10","v":2.3557729535917886},{"$f":"$B$10*(RAND()-0.5)+C$2*pattern!$I$3+C$3*pattern!$I$4+C$4*pattern!$I$5+C$5*pattern!$I$6+C$6*pattern!$I$7+C$7*pattern!$I$8+C$8*pattern!$I$9+C$9*pattern!$I$10","v":0.67137394011392337},{"$f":"$B$10*(RAND()-0.5)+D$2*pattern!$I$3+D$3*pattern!$I$4+D$4*pattern!$I$5+D$5*pattern!$I$6+D$6*pattern!$I$7+D$7*pattern!$I$8+D$8*pattern!$I$9+D$9*pattern!$I$10","v":1.8410304064499088},{"$f":"$B$10*(RAND()-0.5)+E$2*pattern!$I$3+E$3*pattern!$I$4+E$4*pattern!$I$5+E$5*pattern!$I$6+E$6*pattern!$I$7+E$7*pattern!$I$8+E$8*pattern!$I$9+E$9*pattern!$I$10","v":3.5655743156724102},{"$f":"$B$10*(RAND()-0.5)+F$2*pattern!$I$3+F$3*pattern!$I$4+F$4*pattern!$I$5+F$5*pattern!$I$6+F$6*pattern!$I$7+F$7*pattern!$I$8+F$8*pattern!$I$9+F$9*pattern!$I$10","v":0.19288818985150791},{"$f":"$B$10*(RAND()-0.5)+G$2*pattern!$I$3+G$3*pattern!$I$4+G$4*pattern!$I$5+G$5*pattern!$I$6+G$6*pattern!$I$7+G$7*pattern!$I$8+G$8*pattern!$I$9+G$9*pattern!$I$10","v":4.2477185790449843},{"$f":"$B$10*(RAND()-0.5)+H$2*pattern!$I$3+H$3*pattern!$I$4+H$4*pattern!$I$5+H$5*pattern!$I$6+H$6*pattern!$I$7+H$7*pattern!$I$8+H$8*pattern!$I$9+H$9*pattern!$I$10","v":1.9593674626533146},{"$f":"$B$10*(RAND()-0.5)+I$2*pattern!$I$3+I$3*pattern!$I$4+I$4*pattern!$I$5+I$5*pattern!$I$6+I$6*pattern!$I$7+I$7*pattern!$I$8+I$8*pattern!$I$9+I$9*pattern!$I$10","v":1.8061141654643897},{"$f":"$B$10*(RAND()-0.5)+J$2*pattern!$I$3+J$3*pattern!$I$4+J$4*pattern!$I$5+J$5*pattern!$I$6+J$6*pattern!$I$7+J$7*pattern!$I$8+J$8*pattern!$I$9+J$9*pattern!$I$10","v":-0.47332158038004607},{"$f":"$B$10*(RAND()-0.5)+K$2*pattern!$I$3+K$3*pattern!$I$4+K$4*pattern!$I$5+K$5*pattern!$I$6+K$6*pattern!$I$7+K$7*pattern!$I$8+K$8*pattern!$I$9+K$9*pattern!$I$10","v":3.392157744767875},{"$f":"$B$10*(RAND()-0.5)+L$2*pattern!$I$3+L$3*pattern!$I$4+L$4*pattern!$I$5+L$5*pattern!$I$6+L$6*pattern!$I$7+L$7*pattern!$I$8+L$8*pattern!$I$9+L$9*pattern!$I$10","v":0.89997646544641707},{"$f":"$B$10*(RAND()-0.5)+M$2*pattern!$I$3+M$3*pattern!$I$4+M$4*pattern!$I$5+M$5*pattern!$I$6+M$6*pattern!$I$7+M$7*pattern!$I$8+M$8*pattern!$I$9+M$9*pattern!$I$10","v":1.1153414528405279}]
[]
[]
[]
[]
["row 1",0.19329528667132112,-0.17843572379096523,1.1213526324304217,1.0854149522471725,4.8132280331015243E-2,1.0401519321561721,1.0476656498912846,0.57622726598193474,-0.19068486690756012,-7.5039617568472883E-2,1.1905966727054591,0.84273089454113248]
["row 2",0.1242002875572068,1.4684073275902214,-0.4472085426658361,0.77922889890869018,-0.30137857646133359,1.056688444162301,6.977924593972884E-2,0.81285567302997719,0.10924796818244743,0.84435353664958046,-1.0407012646884706E-3,0.19302289369077097]
["row 3",-0.1553438472548041,0.73261668803330471,0.20289688361205652,0.90317534617821615,-9.6834983910789929E-2,1.0071386231028772,0.38801203849900556,0.90012133926956905,-0.28191771111722086,1.3583414679485599,-0.27954607315744284,-4.6401394474688384E-2]
["row 4",-0.23459840593722192,0.95015675514175424,0.63823521754837842,1.0936091661757754,-0.10228733823816483,0.88485753599843164,0.55779741930730453,-6.2108417836193253E-2,-1.2310921343546138E-2,0.97996320036206996,3.5314965492958095E-2,2.1210445915213372E-2]
["row 5",0.81510191962277889,0.1841687949408522,0.16987504525318156,1.0575381162949069,0.10869229489954901,0.61280188435699046,0.9111282396384961,0.77452385946238156,0.42724569496124642,0.90105004329763072,-0.15461928970850214,0.12449472933117622]
["row 6",0.90561480825065943,-6.5190103158867696E-2,-6.7416935163047781E-2,1.1592680267279192,9.8822083225616253E-2,1.2220027367541291,-0.10450416761408032,0.62173181489566254,5.5745258610353468E-2,0.95256039554996463,0.20167331063377492,0.12289385272253006]
["row 7",1.1420323879300776,0.10976277194672307,-5.1429691720282583E-2,0.74031063164894939,0.22546374189914278,1.0362095671765386,3.5224341877807097E-2,0.84766019763744982,-0.32842160542516485,1.0744040877178229,-1.3363875477579779E-2,-0.16398954382412612]
["row 8",0.90746918682598054,4.0522521364745046E-2,0.16073568721870499,1.2183144812040008,-0.44901861270213261,1.1074460905861909,1.0468017617331857,1.0928281591618108,1.6638192301163451E-2,-0.30029632261811678,1.1436315733252083,1.2587251716989971]

{"sheet":"pattern","index":1,"n_rows":10,"n_cols":9,"rows_kept":10,"cut":false,"hidden":false,"merged":[[0,0,0,8]]}
["HADAMARD(8)"]
["carrier / pattern","[,1]","[,2]","[,3]","[,4]","[,5]","[,6]","[,7]","[,8]"]
["[1,]",1,1,1,1,1,1,1,1]
["[2,]",1,0,1,0,1,0,1,0]
["[3,]",1,1,0,0,1,1,0,0]
["[4,]",1,0,0,1,1,0,0,1]
["[5,]",1,1,1,1,0,0,0,0]
["[6,]",1,0,1,0,0,1,0,1]
["[7,]",1,1,0,0,0,0,1,1]
["[8,]",1,0,0,1,0,1,1,0]

{"sheet":"GEsolver","index":2,"n_rows":12,"n_cols":18,"rows_kept":12,"cut":false,"hidden":false,"merged":[[0,0,0,17]]}
["Gaussian Elimination Solver"]
[null,"[,1]","[,2]","[,3]","[,4]","[,5]","[,6]","[,7]","[,8]","b","[,9]",null,null,null,null,null,null,"X"]
["[1,]",1,0,0,0,0,0,0,0,2.3526870496010055,{"$f":"J3","v":2.3526870496010055},{"$f":"K3-K4","v":0.75683468557349398},{"$f":"L3-K5","v":-0.312709993741902},{"$f":"M3+N6","v":0.96722562387230848},{"$f":"N3-O7","v":-0.3748985860562688},{"$f":"O3+P8","v":1.0067204383652584},{"$f":"P3+Q9","v":2.1014560662401296},{"$f":"Q3-R10","v":0.84273089454113248}]
["[2,]",0,1,0,0,0,0,0,0,0.75683468557349398,{"$f":"(J4-K3)*-1","v":1.5958523640275115},null,null,{"$f":"K4-N6","v":0.31591674641330103},null,{"$f":"N4-P8","v":-1.0657022780082261},null,{"$f":"P4+R10","v":0.19302289369077097}]
["[3,]",0,0,1,0,0,0,0,-1,1.2831423702856095,{"$f":"(J5-J3)*-1","v":1.069544679315396},null,null,{"$f":"K5-N6","v":-0.2103909382988145},null,null,{"$f":"N5-Q9","v":-1.3051265661736855},{"$f":"Q5+R10","v":-4.6401394474688384E-2}]
["[4,]",0,0,0,1,0,0,0,1,2.247161241486519,{"$f":"J6-J3","v":-0.10552580811448653},{"$f":"K6+K4","v":1.490326555913025},{"$f":"L6+K5","v":2.559871235228421},{"$f":"M6*0.5","v":1.2799356176142105},null,null,null,{"$f":"N6-R10","v":2.1210445915213372E-2}]
["[5,]",0,0,0,0,1,0,0,-1,1.0105628396724282,{"$f":"J7-J3","v":-1.3421242099285773},null,null,null,{"$f":"-K7","v":1.3421242099285773},{"$f":"O7-P8","v":-3.9494814492949892E-2},{"$f":"P7-Q9","v":-1.1342304423678209},{"$f":"Q7+R10","v":0.12449472933117622}]
["[6,]",0,0,0,0,0,1,0,1,2.177948524487971,{"$f":"J8-J3","v":-0.17473852511303445},{"$f":"K8+K4","v":1.4211138389144771},null,null,{"$f":"L8+O7","v":2.7632380488430544},{"$f":"O8*0.5","v":1.3816190244215272},null,{"$f":"P8-R10","v":0.12289385272253006}]
["[7,]",0,0,0,0,0,0,1,1,2.1304894161067742,{"$f":"J9-J3","v":-0.22219763349423127},null,{"$f":"K9+K5","v":0.84734704582116471},null,{"$f":"M9+O7","v":2.189471255749742},null,{"$f":"O9*0.5","v":1.094735627874871},{"$f":"Q9-R10","v":-0.16398954382412612}]
["[8,]",0,0,0,0,0,0,0,1,0.82284564935474958,{"$f":"J10-J3","v":-1.5298414002462559},{"$f":"K10+K4","v":6.6010963781255594E-2},{"$f":"L10+K5","v":1.1355556430966516},{"$f":"M10-2*N6","v":-1.4243155921317694},{"$f":"N10+O7","v":-8.2191382203192109E-2},{"$f":"O10-2*P8","v":-2.8454294310462465},{"$f":"P10-2*Q9","v":-5.0349006867959885},{"$f":"Q10*-0.25","v":1.2587251716989971}]
[]
["Note: GE row reductions in columns J::R"]